BEGIN:VCALENDAR
VERSION:2.0
PRODID:
CALSCALE:GREGORIAN
METHOD:PUBLISH
BEGIN:VTIMEZONE
TZID:America/New_York
BEGIN:STANDARD
DTSTART:19701025T060000
TZOFFSETTO:-0500
TZOFFSETFROM:-0400
RRULE:FREQ=YEARLY;BYMONTH=11;BYDAY=1SU
END:STANDARD
BEGIN:DAYLIGHT
DTSTART:19700426T070000
TZOFFSETTO:-0400
TZOFFSETFROM:-0500
RRULE:FREQ=YEARLY;BYMONTH=3;BYDAY=2SU
END:DAYLIGHT
END:VTIMEZONE
BEGIN:VEVENT
UID:vur-1
DTSTART:20220615T090000
DTEND:20220615T180000
STATUS:
SUMMARY:Pflanzenschutzmittel und Nährstoffverluste in der Landwirtsch
 aft – Rechtliche Instrumente zum Schutz der Umwelt
DESCRIPTION:
LOCATION:Konzertsaal Solothurn, ,  Solothurn
DTSTAMP:20260424T110736Z
END:VEVENT
END:VCALENDAR
