BEGIN:VCALENDAR
VERSION:2.0
PRODID:
CALSCALE:GREGORIAN
METHOD:PUBLISH
BEGIN:VTIMEZONE
TZID:America/New_York
BEGIN:STANDARD
DTSTART:19701025T060000
TZOFFSETTO:-0500
TZOFFSETFROM:-0400
RRULE:FREQ=YEARLY;BYMONTH=11;BYDAY=1SU
END:STANDARD
BEGIN:DAYLIGHT
DTSTART:19700426T070000
TZOFFSETTO:-0400
TZOFFSETFROM:-0500
RRULE:FREQ=YEARLY;BYMONTH=3;BYDAY=2SU
END:DAYLIGHT
END:VTIMEZONE
BEGIN:VEVENT
UID:vur-13
DTSTART:20161103T130000
DTEND:20161103T180000
STATUS:
SUMMARY:Die neue Abfallverordnung VVEA – Rechtliche und praktische H
 erausforderungen im Vollzug
DESCRIPTION:
LOCATION:Stadttheater Olten, ,  
DTSTAMP:20260424T110750Z
END:VEVENT
END:VCALENDAR
