BEGIN:VCALENDAR
VERSION:2.0
PRODID:
CALSCALE:GREGORIAN
METHOD:PUBLISH
BEGIN:VTIMEZONE
TZID:America/New_York
BEGIN:STANDARD
DTSTART:19701025T060000
TZOFFSETTO:-0500
TZOFFSETFROM:-0400
RRULE:FREQ=YEARLY;BYMONTH=11;BYDAY=1SU
END:STANDARD
BEGIN:DAYLIGHT
DTSTART:19700426T070000
TZOFFSETTO:-0400
TZOFFSETFROM:-0500
RRULE:FREQ=YEARLY;BYMONTH=3;BYDAY=2SU
END:DAYLIGHT
END:VTIMEZONE
BEGIN:VEVENT
UID:vur-3
DTSTART:20211105T100000
DTEND:20211105T180000
STATUS:
SUMMARY:Lichtemissionen – Rechtliche Instrumente zur Verhinderung vo
 n unerwünschtem Licht in der Umwelt
DESCRIPTION:
LOCATION:Kursaal Bern / Webinar, ,  
DTSTAMP:20260424T110731Z
END:VEVENT
END:VCALENDAR
