BEGIN:VCALENDAR
VERSION:2.0
PRODID:
CALSCALE:GREGORIAN
METHOD:PUBLISH
BEGIN:VTIMEZONE
TZID:America/New_York
BEGIN:STANDARD
DTSTART:19701025T060000
TZOFFSETTO:-0500
TZOFFSETFROM:-0400
RRULE:FREQ=YEARLY;BYMONTH=11;BYDAY=1SU
END:STANDARD
BEGIN:DAYLIGHT
DTSTART:19700426T070000
TZOFFSETTO:-0400
TZOFFSETFROM:-0500
RRULE:FREQ=YEARLY;BYMONTH=3;BYDAY=2SU
END:DAYLIGHT
END:VTIMEZONE
BEGIN:VEVENT
UID:vur-38
DTSTART:20240628T100000
DTEND:20240628T180000
STATUS:
SUMMARY:40 Jahre Bundesgesetz über den Umweltschutz (USG)
DESCRIPTION:
LOCATION:Altes Spital / Live-Stream, Solothurn,  
DTSTAMP:20260424T104146Z
END:VEVENT
END:VCALENDAR
