BEGIN:VCALENDAR
VERSION:2.0
PRODID:
CALSCALE:GREGORIAN
METHOD:PUBLISH
BEGIN:VTIMEZONE
TZID:America/New_York
BEGIN:STANDARD
DTSTART:19701025T060000
TZOFFSETTO:-0500
TZOFFSETFROM:-0400
RRULE:FREQ=YEARLY;BYMONTH=11;BYDAY=1SU
END:STANDARD
BEGIN:DAYLIGHT
DTSTART:19700426T070000
TZOFFSETTO:-0400
TZOFFSETFROM:-0500
RRULE:FREQ=YEARLY;BYMONTH=3;BYDAY=2SU
END:DAYLIGHT
END:VTIMEZONE
BEGIN:VEVENT
UID:vur-41
DTSTART:20250314T093000
DTEND:20250314T180000
STATUS:
SUMMARY:Biodiversität im Siedlungsraum – Rechtliche Herausforderung
 en in der Umsetzung
DESCRIPTION:
LOCATION;ALTREP="https://www.kuk-aarau.ch/":Kuk Aarau, Schlossplatz 9,
  5000 Aarau
DTSTAMP:20260424T155705Z
END:VEVENT
END:VCALENDAR
