BEGIN:VCALENDAR
VERSION:2.0
PRODID:
CALSCALE:GREGORIAN
METHOD:PUBLISH
BEGIN:VTIMEZONE
TZID:America/New_York
BEGIN:STANDARD
DTSTART:19701025T060000
TZOFFSETTO:-0500
TZOFFSETFROM:-0400
RRULE:FREQ=YEARLY;BYMONTH=11;BYDAY=1SU
END:STANDARD
BEGIN:DAYLIGHT
DTSTART:19700426T070000
TZOFFSETTO:-0400
TZOFFSETFROM:-0500
RRULE:FREQ=YEARLY;BYMONTH=3;BYDAY=2SU
END:DAYLIGHT
END:VTIMEZONE
BEGIN:VEVENT
UID:vur-9
DTSTART:20181128T093000
DTEND:20181128T180000
STATUS:
SUMMARY:Luftreinhaltung – Bilanz und Herausforderungen im Recht
DESCRIPTION:
LOCATION:Hotel Arte, Olten, ,  
DTSTAMP:20260424T110408Z
END:VEVENT
END:VCALENDAR
