BEGIN:VCALENDAR
VERSION:2.0
PRODID:
CALSCALE:GREGORIAN
METHOD:PUBLISH
BEGIN:VTIMEZONE
TZID:America/New_York
BEGIN:STANDARD
DTSTART:19701025T060000
TZOFFSETTO:-0500
TZOFFSETFROM:-0400
RRULE:FREQ=YEARLY;BYMONTH=11;BYDAY=1SU
END:STANDARD
BEGIN:DAYLIGHT
DTSTART:19700426T070000
TZOFFSETTO:-0400
TZOFFSETFROM:-0500
RRULE:FREQ=YEARLY;BYMONTH=3;BYDAY=2SU
END:DAYLIGHT
END:VTIMEZONE
BEGIN:VEVENT
UID:vur-50
DTSTART:20251118T133000
DTEND:20251118T180000
STATUS:
SUMMARY:Les polluants éternels (PFAS): enjeux environnementaux et jur
 idiques
DESCRIPTION:
LOCATION:Royal Plaza Montreux, Av. Claude-Nobs 7, 1820 Montreux
DTSTAMP:20260425T105556Z
END:VEVENT
END:VCALENDAR
